21.0191644137
0.0000000000
0.0000000000
-21.0191644137
-8312607.4740476599
2275389.8425289318
