3.4782988392
0.0000000000
0.0000000000
-3.4782988392
-8077383.8485806938
2125522.7222669860
